BEGIN:VCALENDAR
VERSION:2.0
PRODID:-//Maqasid Institute - ECPv6.15.20//NONSGML v1.0//EN
CALSCALE:GREGORIAN
METHOD:PUBLISH
X-WR-CALNAME:Maqasid Institute
X-ORIGINAL-URL:http://52.5.62.67
X-WR-CALDESC:Events for Maqasid Institute
REFRESH-INTERVAL;VALUE=DURATION:PT1H
X-Robots-Tag:noindex
X-PUBLISHED-TTL:PT1H
BEGIN:VTIMEZONE
TZID:Asia/Riyadh
BEGIN:STANDARD
TZOFFSETFROM:+0300
TZOFFSETTO:+0300
TZNAME:+03
DTSTART:20250101T000000
END:STANDARD
END:VTIMEZONE
BEGIN:VTIMEZONE
TZID:America/Toronto
BEGIN:DAYLIGHT
TZOFFSETFROM:-0500
TZOFFSETTO:-0400
TZNAME:EDT
DTSTART:20250309T070000
END:DAYLIGHT
BEGIN:STANDARD
TZOFFSETFROM:-0400
TZOFFSETTO:-0500
TZNAME:EST
DTSTART:20251102T060000
END:STANDARD
BEGIN:DAYLIGHT
TZOFFSETFROM:-0500
TZOFFSETTO:-0400
TZNAME:EDT
DTSTART:20260308T070000
END:DAYLIGHT
BEGIN:STANDARD
TZOFFSETFROM:-0400
TZOFFSETTO:-0500
TZNAME:EST
DTSTART:20261101T060000
END:STANDARD
BEGIN:DAYLIGHT
TZOFFSETFROM:-0500
TZOFFSETTO:-0400
TZNAME:EDT
DTSTART:20270314T070000
END:DAYLIGHT
BEGIN:STANDARD
TZOFFSETFROM:-0400
TZOFFSETTO:-0500
TZNAME:EST
DTSTART:20271107T060000
END:STANDARD
END:VTIMEZONE
BEGIN:VEVENT
DTSTART;TZID=Asia/Riyadh:20260404T150000
DTEND;TZID=Asia/Riyadh:20260404T170000
DTSTAMP:20260423T070615
CREATED:20260328T014224Z
LAST-MODIFIED:20260330T000407Z
UID:11731-1775314800-1775322000@52.5.62.67
SUMMARY:Maqasid Interconnection: Surah Al-Isra\, Al-Kahf\, and Maryam
DESCRIPTION:Maqasid Institute invites you to our first Monthly Discussion Session\, featuring a scholarly dialogue led by our member\, Brother Yahya Muhamad. \nIn this session\, we will talk about why Surahs Al-Isra\, Al-Kahf\, and Maryam come in this specific order in the Quran. We will look at the link between the miraculous stories in these Surahs and how they work together to support our faith and understanding. \nThis session features personal reflections and discussions. The views expressed are those of the speakers and do not necessarily reflect the official views of Maqasid Institute. \nEvent Details:\n\n\nPresenter: Br. Yahya Muhamad \n\n\nDate:  Saturday \,April 4th \n\n\nTime: 3:00 PM (Makkah Time) \n\n\nLocation: Online (Registration Required) \n\n\nCLICK HERE TO REGISTER
URL:http://52.5.62.67/event/maqasid-interconnection-surah-al-isra-al-kahf-and-maryam/
CATEGORIES:Course,Program
ATTACH;FMTTYPE=image/jpeg:http://52.5.62.67/wp-content/uploads/2026/03/Scan-to-Attend.jpg
END:VEVENT
BEGIN:VEVENT
DTSTART;TZID=America/Toronto:20260509T143000
DTEND;TZID=America/Toronto:20260517T173000
DTSTAMP:20260423T070615
CREATED:20260423T003625Z
LAST-MODIFIED:20260423T003625Z
UID:11924-1778337000-1779039000@52.5.62.67
SUMMARY:Towards Hayat Al-Tayyibah: Qur'anic Guidance for Good Life
DESCRIPTION:This course explores the concept of Hayyat Al-Tayyibah (Good Life) from an Islamic holistic perspective\, integrating insights from modern psychology\, sociology\, neuroscience\, and Islamic studies. It aims to reconnect participants with the Qur’anic understanding of a good life\, emphasizing timeless values that promote mental\, physical\, and spiritual well-being. Participants will learn how to use the Qur’an as a framework for thinking\, envisioning\, and interpreting the world around them\, moving beyond ritual practice to a deeper understanding of life’s purpose. The course is designed for a general audience and provides practical guidance for personal and community growth. Through this journey\, participants will explore the relationship between faith\, positive psychology\, moral development\, and overall life satisfaction\, ultimately learning how to cultivate balanced\, meaningful\, and purposeful lives. \nSchedule : \nLive sessions (Makkah Time — UTC+3): \n\nMay 9 — 2:30 PM\nMay 10 — 2:30 PM\nMay 16 — 2:30 PM\nMay 17 — 2:30 PM\n\nClick here for more information \nCLICK HERE TO REGISTER
URL:http://52.5.62.67/event/towards-hayat-al-tayyibah/
CATEGORIES:Course
ATTACH;FMTTYPE=image/jpeg:http://52.5.62.67/wp-content/uploads/2026/04/WhatsApp-Image-2026-04-21-at-5.01.12-PM.jpeg
END:VEVENT
END:VCALENDAR